BEGIN:VCALENDAR
VERSION:2.0
BEGIN:VEVENT
UID:88D99429-3C93-409F-B7DC-5084468CCBD7
DTSTART:20230616T120000Z
DTEND:20230616T133000Z
SUMMARY:Attorneys Serving the Community’s 36 Annual Lunch
DESCRIPTION:On June 16\, 2023 at the Thompson Dallas with a VIP reception a
 t 11 a.m. and a luncheon at 12 p.m.\, Attorneys Serving the Community’s 36
 th annual luncheon will host Author and Producer\, Beth Macy. Beth Macy is
  a bestselling Author of the book Dopesick & Executive Producer of its Emm
 y-winning Hulu series adaptation. The luncheon will benefit Nexus Recovery
  Center whose mission is to serve as a community of hope for all women and
  their families who strive to live healthy\, resilient lives.\nThompson Da
 llas\n205 N Akard St\nDallas\, TX 75202 United States\n
LOCATION:205 N Akard St\, Dallas\, TX 75202
URL:http://intheloopkids.bubblelife.com/community/intheloopkids_calendar/li
 brary/35658852/key/3511504990/Attorneys_Serving_the_Communitys_36_Annual_L
 unch
CREATED:20230123T222729Z
LAST-MODIFIED:20230123T222729Z
DTSTAMP:20260424T172035Z
CLASS:PUBLIC
STATUS:CONFIRMED
TRANSP:TRANSPARENT
SEQUENCE:1
END:VEVENT
END:VCALENDAR
